BEGIN:VCALENDAR
VERSION:2.0
PRODID:-//Squarespace Inc/Squarespace 6//v6//EN
BEGIN:VEVENT
UID:58fde9f1e3df28205417deb5@squarespace.com
DTSTAMP:20170424T122327Z
DTSTART:20170528T180000Z
DTEND:20170528T210000Z
SUMMARY:A Curious High Tea with David Dyer
GEO:-33.713114;150.310922
LOCATION:Carrington Hotel\, 15-47 Katoomba Street\, Katoomba\, NSW\, 2780\, 
 Australia
END:VEVENT
END:VCALENDAR
