BEGIN:VCALENDAR
VERSION:2.0
PRODID:-//Squarespace Inc/Squarespace 6//v6//EN
BEGIN:VEVENT
UID:58aa73023e00be9b7ed3001f@squarespace.com
DTSTAMP:20170220T045340Z
DTSTART:20170222T230000Z
DTEND:20170224T003000Z
SUMMARY:Waringah Mall Library
GEO:-33.76772;151.265715
LOCATION:Warringah Mall Library\, Shop 650/145 Old Pittwater Road\, Brookva
 le NSW 2100\, Australia
END:VEVENT
END:VCALENDAR
