BEGIN:VCALENDAR
VERSION:2.0
PRODID:-//Squarespace Inc/Squarespace 6//v6//EN
BEGIN:VEVENT
UID:588e84db6b8f5b15287dddc6@squarespace.com
DTSTAMP:20170130T002749Z
DTSTART:20170201T160000Z
DTEND:20170201T170000Z
SUMMARY:Paddington 55+ Club\, Sydney
GEO:-33.885254;151.225806
LOCATION:Paddington Library (in Paddington Town Hall) Sydney\, 247 Oxford S
 treet\, Paddington\, NSW\, 2021\, Australia
END:VEVENT
END:VCALENDAR
