BEGIN:VCALENDAR
VERSION:2.0
PRODID:-//Squarespace Inc/Squarespace 6//v6//EN
BEGIN:VEVENT
UID:57bd1c03d1758e6b2bb51ff5@squarespace.com
DTSTAMP:20160826T032440Z
DTSTART:20160909T180000Z
DTEND:20160909T210000Z
SUMMARY:BWF: Blast from the Past - Writing Historical Fiction
GEO:-27.696403;153.017608
LOCATION:Brisbane Writers Festival\, The Heritage Room\, Stanley Place\, So
 uth Brisbane\, Queensland\, 4101\, Australia
END:VEVENT
END:VCALENDAR
