BEGIN:VCALENDAR
VERSION:2.0
PRODID:-//Squarespace Inc/Squarespace 6//v6//EN
BEGIN:VEVENT
UID:57bd1e1f15d5db62fcd8d5a2@squarespace.com
DTSTAMP:20160826T033035Z
DTSTART:20160911T183000Z
DTEND:20160911T193000Z
SUMMARY:BWF: Historical Fiction
GEO:-27.472007;153.01877
LOCATION:Brisbane Writers Festival\, The Edge\, Stanley Place\, Cultural Ce
 ntre\, Brisbane South Bank\, Queensland\, Australia
END:VEVENT
END:VCALENDAR
