BEGIN:VCALENDAR
VERSION:2.0
PRODID:-//Squarespace Inc/Squarespace 6//v6//EN
BEGIN:VEVENT
UID:57bd172a725e259526ebcc5a@squarespace.com
DTSTAMP:20160826T032553Z
DTSTART:20160911T153000Z
DTEND:20160911T163000Z
SUMMARY:BWF: The Midnight Watch
GEO:-27.471331;153.016951
LOCATION:Brisbane Writers Festival\, Auditorium 1\, Stanley Place\, South B
 risbane\, 4101\, Australia
END:VEVENT
END:VCALENDAR
