BEGIN:VCALENDAR
VERSION:2.0
PRODID:-//Squarespace Inc/Squarespace 6//v6//EN
BEGIN:VEVENT
UID:578b1240b3db2b247147cd66@squarespace.com
DTSTAMP:20160717T052620Z
DTSTART:20160804T223000Z
DTEND:20160805T000000Z
SUMMARY:Hornsby Library - Meet the Author
GEO:-33.702863;151.099624
LOCATION:Hornsby Library\, 28-44 George Street\, Hornsby\, NSW\, 2077\, Aus
 tralia
END:VEVENT
END:VCALENDAR
