BEGIN:VCALENDAR
VERSION:2.0
PRODID:-//Squarespace Inc/Squarespace 6//v6//EN
BEGIN:VEVENT
UID:57bb06e429687fd0cb3f734c@squarespace.com
DTSTAMP:20160822T143825Z
DTSTART:20160830T150000Z
DTEND:20160830T163000Z
SUMMARY:Warilla Library Talk
GEO:-34.55237;150.860066
LOCATION:Warilla LIbrary\, Cnr Lake Entrance and Shellharbour Roads\, Waril
 la\, Australia
END:VEVENT
END:VCALENDAR
