BEGIN:VCALENDAR
VERSION:2.0
PRODID:-//Squarespace Inc/Squarespace 6//v6//EN
BEGIN:VEVENT
UID:578b187259cc680c78774724@squarespace.com
DTSTAMP:20160717T055340Z
DTSTART:20160813T153000Z
DTEND:20160813T163000Z
SUMMARY:Mudgee Readers' Festival: Past Tense: Compelling Historical Fiction
GEO:-32.614457;149.573329
LOCATION:Mudgee Readers' Festival\, Mudgee Town Hall Theatre\, Mudgee
END:VEVENT
END:VCALENDAR
