BEGIN:VCALENDAR
VERSION:2.0
PRODID:-//Squarespace Inc/Squarespace 6//v6//EN
BEGIN:VEVENT
UID:578b1bf9b3db2b247147f5dc@squarespace.com
DTSTAMP:20160717T055507Z
DTSTART:20160813T174500Z
DTEND:20160813T184500Z
SUMMARY:Mudgee Readers' Festival: The Midnight Watch
GEO:-32.614457;149.573329
LOCATION:Mudgee Readers' Festival\, Town Hall Theatre\, Mudgee
END:VEVENT
END:VCALENDAR
