BEGIN:VCALENDAR
VERSION:2.0
PRODID:-//Squarespace Inc/Squarespace 6//v6//EN
BEGIN:VEVENT
UID:578ae7bfbebafb8c8143bb80@squarespace.com
DTSTAMP:20160717T101954Z
DTSTART:20160719T223000Z
DTEND:20160720T000000Z
SUMMARY:Riverbend Books Brisbane - In Conversation
GEO:-27.45188;153.061127
LOCATION:Riverbend Books\, 193 Oxford Street\, Bulimba\, QLD\, 4171\, Austr
 alia
END:VEVENT
END:VCALENDAR
