BEGIN:VCALENDAR
VERSION:2.0
PRODID:-//Squarespace Inc/Squarespace 6//v6//EN
BEGIN:VEVENT
UID:578b0fb09f745617d62b2037@squarespace.com
DTSTAMP:20160717T102737Z
DTSTART:20160720T220000Z
DTEND:20160721T000000Z
SUMMARY:Avid Reader Bookshop\, Brisbane - In Conversation with Phil Brown
GEO:-27.480528;153.011891
LOCATION:Avid Reader Bookshop\, Shop 1\, 193 Boundary Street\, West End\, B
 risbane
END:VEVENT
END:VCALENDAR
