BEGIN:VCALENDAR
VERSION:2.0
PRODID:-//Squarespace Inc/Squarespace 6//v6//EN
BEGIN:VEVENT
UID:578b5decb8a79bbf14dd1472@squarespace.com
DTSTAMP:20160717T103810Z
DTSTART:20160918T183000Z
DTEND:20160918T193000Z
SUMMARY:St Albans Writers' Festival
GEO:51.752725;-0.339436
LOCATION:St Albans Writers' Festival\, St Albans - The 'Ian' Marquee\, St A
 lbans
END:VEVENT
END:VCALENDAR
