BEGIN:VCALENDAR
VERSION:2.0
PRODID:-//Squarespace Inc/Squarespace 6//v6//EN
BEGIN:VEVENT
UID:57590e0e4d088e92b42be09e@squarespace.com
DTSTAMP:20160609T064507Z
DTSTART:20160628T223000Z
DTEND:20160628T233000Z
SUMMARY:Talking Heads: David Dyer
GEO:-33.899372;151.183815
LOCATION:Erskineville Town Hall\, 104 Erskineville Road\, Erskineville\, NS
 W\, 2043\, Australia
END:VEVENT
END:VCALENDAR
