BEGIN:VCALENDAR
VERSION:2.0
PRODID:-//Squarespace Inc/Squarespace 6//v6//EN
BEGIN:VEVENT
UID:57685207e6f2e199f340b6b6@squarespace.com
DTSTAMP:20160620T203959Z
DTSTART:20160622T020000Z
DTEND:20160622T030000Z
SUMMARY:ABC Television - The Book Club
END:VEVENT
END:VCALENDAR
