BEGIN:VCALENDAR
VERSION:2.0
PRODID:-//Squarespace Inc/Squarespace 6//v6//EN
BEGIN:VEVENT
UID:56f36dacf8baf3f3538838d8@squarespace.com
DTSTAMP:20160419T140708Z
DTSTART:20160504T220000Z
DTEND:20160504T230000Z
SUMMARY:Blues Point Bookshop
GEO:-33.843099;151.205217
LOCATION:Indulgent Sage Restaurant\, 165 Blues Point Road\, McMahons Point\
 , NSW\, 2060\, Australia
END:VEVENT
END:VCALENDAR
