BEGIN:VCALENDAR
VERSION:2.0
PRODID:-//Squarespace Inc/Squarespace 6//v6//EN
BEGIN:VEVENT
UID:5726b36f1bbee056722742bf@squarespace.com
DTSTAMP:20160502T020129Z
DTSTART:20160522T183000Z
DTEND:20160522T191000Z
SUMMARY:Sydney Writers' Festival - Titanic and the Suffragettes
GEO:-33.855522;151.207432
LOCATION:Pier 2/3 Curiosity Stage\, Hickson Road\, Dawes Point\, NSW\, 2000
 \, Australia
END:VEVENT
END:VCALENDAR
