BEGIN:VCALENDAR
VERSION:2.0
PRODID:-//Squarespace Inc/Squarespace 6//v6//EN
BEGIN:VEVENT
UID:5726b0e059827e5304e934ba@squarespace.com
DTSTAMP:20160502T015438Z
DTSTART:20160519T190000Z
DTEND:20160519T200000Z
SUMMARY:Sydney Writers' Festival- Animating History
GEO:-33.855522;151.207432
LOCATION:Pier 4/5 The Waterfront\, Hickson Road\, Dawes Point\, NSW\, 2000\
 , Australia
END:VEVENT
END:VCALENDAR
