BEGIN:VCALENDAR
VERSION:2.0
PRODID:-//Squarespace Inc/Squarespace 6//v6//EN
BEGIN:VEVENT
UID:5726ac234c2f85c3ba513e35@squarespace.com
DTSTAMP:20160502T014326Z
DTSTART:20160514T173000Z
DTEND:20160514T203000Z
SUMMARY:Sydney Writers' Festival Workshop: Researching and Writing Historic
 al Fiction
GEO:-33.862006;151.206382
LOCATION:Science House\, NYU Sydney\, 157-161 Gloucester Street\, The Rocks
 \, NSW\, 2000\, Australia
END:VEVENT
END:VCALENDAR
