BEGIN:VCALENDAR
VERSION:2.0
PRODID:-//Squarespace Inc/Squarespace 6//v6//EN
BEGIN:VEVENT
UID:56f35e6e4d088ecd01e08003@squarespace.com
DTSTAMP:20160324T050726Z
DTSTART:20160403T193000Z
DTEND:20160403T210000Z
SUMMARY:Muse Bookshop\, Canberra
GEO:-35.31959;149.137038
LOCATION:East Hotel\, 69 Canberrra Avenue\, Kingston\, Canberra\, 2604\, Au
 stralia
END:VEVENT
END:VCALENDAR
