BEGIN:VCALENDAR
VERSION:2.0
PRODID:-//Squarespace Inc/Squarespace 6//v6//EN
BEGIN:VEVENT
UID:570b19f01d07c049723b5445@squarespace.com
DTSTAMP:20160411T033708Z
DTSTART:20160418T221500Z
DTEND:20160418T231500Z
SUMMARY:The Next Big Thing: Historical Fiction Edition\, at The Wheeler Cen
 tre\, Melbourne
GEO:-37.814107;144.96328
LOCATION:The Wheeler Centre\, The Moat\, 176 Little Londsdale Street\, Melb
 ourne\, Australia
END:VEVENT
END:VCALENDAR
