BEGIN:VCALENDAR
VERSION:2.0
PRODID:-//Squarespace Inc/Squarespace 6//v6//EN
BEGIN:VEVENT
UID:570b12e89f726623e0cb1df6@squarespace.com
DTSTAMP:20160411T030120Z
DTSTART:20160413T123000Z
DTEND:20160413T124500Z
SUMMARY:Talking to ABC News Breakfast
END:VEVENT
END:VCALENDAR
