BEGIN:VCALENDAR
VERSION:2.0
PRODID:-//Squarespace Inc/Squarespace 6//v6//EN
BEGIN:VEVENT
UID:570b18d99f726623e0cb4f0c@squarespace.com
DTSTAMP:20160411T033645Z
DTSTART:20160414T153000Z
DTEND:20160414T160000Z
SUMMARY:Talking to 3CR Melbourne\, 'Published ... or Not'
END:VEVENT
END:VCALENDAR
