BEGIN:VCALENDAR
VERSION:2.0
PRODID:-//Squarespace Inc/Squarespace 6//v6//EN
BEGIN:VEVENT
UID:570b14b1356fb01724978680@squarespace.com
DTSTAMP:20160411T033522Z
DTSTART:20160413T161000Z
DTEND:20160413T163000Z
SUMMARY:Talking to Triple R Melbourne\, 'Multi Storied'
END:VEVENT
END:VCALENDAR
