BEGIN:VCALENDAR
VERSION:2.0
PRODID:-//Squarespace Inc/Squarespace 6//v6//EN
BEGIN:VEVENT
UID:570b17571bbee05d7fd0633b@squarespace.com
DTSTAMP:20160411T033602Z
DTSTART:20160414T014000Z
DTEND:20160414T020000Z
SUMMARY:Talking to Peter Goers of 891 ABC Adelaide 'Evenings'
END:VEVENT
END:VCALENDAR
