BEGIN:VCALENDAR
VERSION:2.0
PRODID:-//Squarespace Inc/Squarespace 6//v6//EN
BEGIN:VEVENT
UID:56f368fcf85082bc47d3fa76@squarespace.com
DTSTAMP:20160410T083454Z
DTSTART:20160413T223000Z
DTEND:20160413T233000Z
SUMMARY:Readings Books
GEO:-37.819679;145.035518
LOCATION:Readings Books\, Readings Hawthorn\, 701 Glenfarrie Road\, Hawthor
 n\, Victoria\, 3122\, Australia
END:VEVENT
END:VCALENDAR
