BEGIN:VCALENDAR
VERSION:2.0
PRODID:-//Squarespace Inc/Squarespace 6//v6//EN
BEGIN:VEVENT
UID:570a0efc07eaa06664e9f094@squarespace.com
DTSTAMP:20160411T030020Z
DTSTART:20160412T191500Z
DTEND:20160412T193000Z
SUMMARY:Talking to Gillian O'Shaughnessy on ABC Radio Perth 'Afternoons'
END:VEVENT
END:VCALENDAR
