BEGIN:VCALENDAR
VERSION:2.0
PRODID:-//Squarespace Inc/Squarespace 6//v6//EN
BEGIN:VEVENT
UID:570a0c4d07eaa06664e9ea16@squarespace.com
DTSTAMP:20160410T082506Z
DTSTART:20160412T150000Z
DTEND:20160412T160000Z
SUMMARY:Conversations with Jon Faine\, ABC 774 Victoria Statewide
END:VEVENT
END:VCALENDAR
