BEGIN:VCALENDAR
VERSION:2.0
PRODID:-//Squarespace Inc/Squarespace 6//v6//EN
BEGIN:VEVENT
UID:570a0a12356fb01724919d51@squarespace.com
DTSTAMP:20160410T082446Z
DTSTART:20160411T010000Z
DTEND:20160411T040000Z
SUMMARY:Talking to Bill Crews on Sunday Night Crews\, 2GB Radio.
END:VEVENT
END:VCALENDAR
