BEGIN:VCALENDAR
VERSION:2.0
PRODID:-//Squarespace Inc/Squarespace 6//v6//EN
BEGIN:VEVENT
UID:56f364d8a3360cd86ed5e3fd@squarespace.com
DTSTAMP:20160324T045235Z
DTSTART:20160406T220000Z
DTEND:20160406T230000Z
SUMMARY:The Bookshop Bowral
GEO:-34.479298;150.417388
LOCATION:The Bookshop Bowral\, 311 Bong Bong Street\, Bowral\, NSW\, 2576\, 
 Australia
END:VEVENT
END:VCALENDAR
