BEGIN:VCALENDAR
VERSION:2.0
PRODID:-//Squarespace Inc/Squarespace 6//v6//EN
BEGIN:VEVENT
UID:56f36b88a3360cd86ed604b3@squarespace.com
DTSTAMP:20160324T050857Z
DTSTART:20160414T213000Z
DTEND:20160414T230000Z
SUMMARY:The Bookshop at Queenscliffe
GEO:-38.267445;144.66145
LOCATION:The Queenscliff Maritime Museum
END:VEVENT
END:VCALENDAR
