BEGIN:VCALENDAR
VERSION:2.0
PRODID:-//Squarespace Inc/Squarespace 6//v6//EN
BEGIN:VEVENT
UID:56f36fe8859fd0cad68192a5@squarespace.com
DTSTAMP:20160502T020636Z
DTSTART:20160524T223000Z
DTEND:20160525T000000Z
SUMMARY:Potts Point Bookshop and Kings Cross Library
GEO:-33.874122;151.223613
LOCATION:King's Cross Library\, Level 2\, 50-52 Darlinghurst Road\, King's 
 Cross NSW 2011\, Australia
END:VEVENT
END:VCALENDAR
