BEGIN:VCALENDAR
VERSION:2.0
PRODID:-//Squarespace Inc/Squarespace 6//v6//EN
BEGIN:VEVENT
UID:56f362ba926173a123d5eb7c@squarespace.com
DTSTAMP:20160324T045129Z
DTSTART:20160405T220000Z
DTEND:20160405T230000Z
SUMMARY:Kiama Library
GEO:-34.671358;150.855149
LOCATION:Kiama Library\, 7 Railway Parade\, Kiama NSW 2533\, Australia
END:VEVENT
END:VCALENDAR
