BEGIN:VCALENDAR
VERSION:2.0
PRODID:-//Squarespace Inc/Squarespace 6//v6//EN
BEGIN:VEVENT
UID:56f367b12eeb81c4963b51d0@squarespace.com
DTSTAMP:20160411T025324Z
DTSTART:20160412T233000Z
DTEND:20160413T003000Z
SUMMARY:Beaumaris Books
GEO:-37.9863;145.034413
LOCATION:Ginger Fox\, 23-25 South Concourse\, Beaumaris\, Australia
END:VEVENT
END:VCALENDAR
