BEGIN:VCALENDAR
VERSION:2.0
PRODID:-//Squarespace Inc/Squarespace 6//v6//EN
BEGIN:VEVENT
UID:57c386d81b631b53beede9ef@squarespace.com
DTSTAMP:20160829T005530Z
DTSTART:20161030T160000Z
DTEND:20161030T190000Z
SUMMARY:Ubud: 'Look Who's Coming to Lunch'
GEO:-8.497726;115.263014
LOCATION:Ubud Writers and Readers Festival\, Locavore. Jl. Dewisita No.10\, 
 Ubud\, Indonesia
END:VEVENT
END:VCALENDAR
