BEGIN:VCALENDAR
VERSION:2.0
PRODID:-//Squarespace Inc/Squarespace 6//v6//EN
BEGIN:VEVENT
UID:57c384901b631b53beedd766@squarespace.com
DTSTAMP:20160829T010900Z
DTSTART:20161029T183000Z
DTEND:20161029T194500Z
SUMMARY:Ubud: 'It Chooses You'
GEO:-8.493247;115.253323
LOCATION:Ubud Writers and Readers Festival\, Indus Restaurant. Jl. Raya San
 ggingan\, Ubud\, Indonesia
END:VEVENT
END:VCALENDAR
