BEGIN:VCALENDAR
VERSION:2.0
PRODID:-//Squarespace Inc/Squarespace 6//v6//EN
BEGIN:VEVENT
UID:57bfc9aa4402430af25b6e07@squarespace.com
DTSTAMP:20160829T003655Z
DTSTART:20161027T170000Z
DTEND:20161027T180000Z
SUMMARY:Ubud Festival - Fact or Fiction
GEO:-8.493247;115.253323
LOCATION:Ubud Writers and Readers Festival\, Taman Baca. Jl. Raya Sangginga
 n\, Ubud\, Indonesia
END:VEVENT
END:VCALENDAR
