BEGIN:VCALENDAR
VERSION:2.0
PRODID:-//Squarespace Inc/Squarespace 6//v6//EN
BEGIN:VEVENT
UID:57bfcbd1c534a52224e305d5@squarespace.com
DTSTAMP:20160829T004027Z
DTSTART:20161027T233000Z
DTEND:20161028T003000Z
SUMMARY:Ubud Festival - Titanic and The Midnight Watch
GEO:-8.505861;115.26002
LOCATION:Ubud Writers and Readers Festival\, Bar Luna @ Casa Luna. Jl. Raya 
 Ubud\, Ubud\, Indonesia
END:VEVENT
END:VCALENDAR
