BEGIN:VCALENDAR
VERSION:2.0
PRODID:-//Squarespace Inc/Squarespace 6//v6//EN
BEGIN:VEVENT
UID:580c5cd5893fc08940950e9f@squarespace.com
DTSTAMP:20161023T065406Z
DTSTART:20161028T230000Z
DTEND:20161029T010000Z
SUMMARY:Ubud 2016: People of Letters
GEO:-8.493247;115.253323
LOCATION:Ubud Writers and Readers Festival 2016\, Indus Restaurant. Jl. Ray
 a Sanggingan\, Ubud\, Indonesia
END:VEVENT
END:VCALENDAR
