BEGIN:VCALENDAR
VERSION:2.0
PRODID:-//Squarespace Inc/Squarespace 6//v6//EN
BEGIN:VEVENT
UID:57fd8d0be8968e397aeb25c4@squarespace.com
DTSTAMP:20161012T012215Z
DTSTART:20161016T010000Z
DTEND:20161016T020000Z
SUMMARY:Kiama Readers' Festival
GEO:-34.674685;150.855859
LOCATION:Kiama Readers' Festival\, The Norfolk Room\, The Pavilion\, 2 Bong 
 Bong Street\,\, Kiama 2533\, Australia
END:VEVENT
END:VCALENDAR
